BEGIN:VCALENDAR
VERSION:2.0
PRODID:-//Schützenverein Welbergen 1629 e.V. - ECPv6.13.2.1//NONSGML v1.0//EN
CALSCALE:GREGORIAN
METHOD:PUBLISH
X-WR-CALNAME:Schützenverein Welbergen 1629 e.V.
X-ORIGINAL-URL:https://welbergen1629.de
X-WR-CALDESC:Veranstaltungen für Schützenverein Welbergen 1629 e.V.
REFRESH-INTERVAL;VALUE=DURATION:PT1H
X-Robots-Tag:noindex
X-PUBLISHED-TTL:PT1H
BEGIN:VTIMEZONE
TZID:Europe/Berlin
BEGIN:DAYLIGHT
TZOFFSETFROM:+0100
TZOFFSETTO:+0200
TZNAME:CEST
DTSTART:20260329T010000
END:DAYLIGHT
BEGIN:STANDARD
TZOFFSETFROM:+0200
TZOFFSETTO:+0100
TZNAME:CET
DTSTART:20261025T010000
END:STANDARD
END:VTIMEZONE
BEGIN:VEVENT
DTSTART;TZID=Europe/Berlin:20260424T080000
DTEND;TZID=Europe/Berlin:20260425T150000
DTSTAMP:20260424T115051
CREATED:20250930T113320Z
LAST-MODIFIED:20251026T173345Z
UID:2089-1777017600-1777129200@welbergen1629.de
SUMMARY:Rolinck Pils - Verkauf "875 Jahre Welbergen" 🍺
DESCRIPTION:
URL:https://welbergen1629.de/event/rolinck-pils-verkauf-875-jahre-welbergen/
LOCATION:Unser Laden
END:VEVENT
BEGIN:VEVENT
DTSTART;TZID=Europe/Berlin:20260508T080000
DTEND;TZID=Europe/Berlin:20260508T170000
DTSTAMP:20260424T115051
CREATED:20251026T172237Z
LAST-MODIFIED:20251026T172237Z
UID:2117-1778227200-1778259600@welbergen1629.de
SUMMARY:Vogelwegbringen 🦅 Rosenmachen 🌹
DESCRIPTION:
URL:https://welbergen1629.de/event/vogelwegbringen-%f0%9f%a6%85-rosenmachen-%f0%9f%8c%b9/
LOCATION:König / Festzelt
END:VEVENT
BEGIN:VEVENT
DTSTART;VALUE=DATE:20260509
DTEND;VALUE=DATE:20260510
DTSTAMP:20260424T115051
CREATED:20251028T114853Z
LAST-MODIFIED:20251028T114853Z
UID:2140-1778284800-1778371199@welbergen1629.de
SUMMARY:Sternmarsch Alt und Bollhorst 🥁
DESCRIPTION:
URL:https://welbergen1629.de/event/sternmarsch-alt-und-bollhorst-%f0%9f%a5%81/
END:VEVENT
BEGIN:VEVENT
DTSTART;VALUE=DATE:20260512
DTEND;VALUE=DATE:20260513
DTSTAMP:20260424T115051
CREATED:20260408T203346Z
LAST-MODIFIED:20260408T203346Z
UID:3205-1778544000-1778630399@welbergen1629.de
SUMMARY:Dorf schmücken
DESCRIPTION:
URL:https://welbergen1629.de/event/dorf-schmuecken/
END:VEVENT
BEGIN:VEVENT
DTSTART;TZID=Europe/Berlin:20260513T200000
DTEND;TZID=Europe/Berlin:20260514T043000
DTSTAMP:20260424T115051
CREATED:20251026T172639Z
LAST-MODIFIED:20251026T172639Z
UID:2122-1778702400-1778733000@welbergen1629.de
SUMMARY:Jugendball 🎉🪩
DESCRIPTION:
URL:https://welbergen1629.de/event/jugendball-%f0%9f%8e%89%f0%9f%aa%a9/
LOCATION:Festzelt
END:VEVENT
BEGIN:VEVENT
DTSTART;TZID=Europe/Berlin:20260514T080000
DTEND;TZID=Europe/Berlin:20260516T170000
DTSTAMP:20260424T115051
CREATED:20251026T172756Z
LAST-MODIFIED:20251026T172756Z
UID:2125-1778745600-1778950800@welbergen1629.de
SUMMARY:Schützenfest 2026 🦅
DESCRIPTION:
URL:https://welbergen1629.de/event/schuetzenfest-2026-%f0%9f%a6%85/
LOCATION:Welbergen
END:VEVENT
BEGIN:VEVENT
DTSTART;VALUE=DATE:20260516
DTEND;VALUE=DATE:20260517
DTSTAMP:20260424T115051
CREATED:20251028T114943Z
LAST-MODIFIED:20251028T114943Z
UID:2142-1778889600-1778975999@welbergen1629.de
SUMMARY:Sternmarsch Rothenberge 🥁
DESCRIPTION:
URL:https://welbergen1629.de/event/sternmarsch-rothenberge-%f0%9f%a5%81/
END:VEVENT
BEGIN:VEVENT
DTSTART;TZID=Europe/Berlin:20260518T180000
DTEND;TZID=Europe/Berlin:20260518T220000
DTSTAMP:20260424T115051
CREATED:20251026T172915Z
LAST-MODIFIED:20251026T172915Z
UID:2128-1779127200-1779141600@welbergen1629.de
SUMMARY:Dorfabschmücken 🔚
DESCRIPTION:
URL:https://welbergen1629.de/event/dorfabschmuecken-%f0%9f%94%9a/
LOCATION:Welbergen
END:VEVENT
BEGIN:VEVENT
DTSTART;VALUE=DATE:20260530
DTEND;VALUE=DATE:20260531
DTSTAMP:20260424T115051
CREATED:20251028T115024Z
LAST-MODIFIED:20251028T115024Z
UID:2144-1780099200-1780185599@welbergen1629.de
SUMMARY:Sternmarsch Wester 🥁
DESCRIPTION:
URL:https://welbergen1629.de/event/sternmarsch-wester-%f0%9f%a5%81/
END:VEVENT
BEGIN:VEVENT
DTSTART;VALUE=DATE:20260704
DTEND;VALUE=DATE:20260705
DTSTAMP:20260424T115051
CREATED:20251026T172958Z
LAST-MODIFIED:20251026T172958Z
UID:2130-1783123200-1783209599@welbergen1629.de
SUMMARY:Jahreshauptversammlung 🗳️
DESCRIPTION:
URL:https://welbergen1629.de/event/jahreshauptversammlung-%f0%9f%97%b3%ef%b8%8f/
END:VEVENT
BEGIN:VEVENT
DTSTART;VALUE=DATE:20260822
DTEND;VALUE=DATE:20260823
DTSTAMP:20260424T115051
CREATED:20251028T115119Z
LAST-MODIFIED:20251028T115119Z
UID:2146-1787356800-1787443199@welbergen1629.de
SUMMARY:Sternmarsch Wettringer Junggesellen 🥁
DESCRIPTION:
URL:https://welbergen1629.de/event/sternmarsch-wettringer-junggesellen-%f0%9f%a5%81/
END:VEVENT
BEGIN:VEVENT
DTSTART;TZID=Europe/Berlin:20260904T080000
DTEND;TZID=Europe/Berlin:20260906T170000
DTSTAMP:20260424T115051
CREATED:20251026T173144Z
LAST-MODIFIED:20251026T173144Z
UID:2132-1788508800-1788714000@welbergen1629.de
SUMMARY:Pfarrfest 2026 🎊
DESCRIPTION:
URL:https://welbergen1629.de/event/pfarrfest-2026-%f0%9f%8e%8a/
LOCATION:Festplatz
END:VEVENT
BEGIN:VEVENT
DTSTART;VALUE=DATE:20260912
DTEND;VALUE=DATE:20260913
DTSTAMP:20260424T115051
CREATED:20251028T115204Z
LAST-MODIFIED:20251028T115204Z
UID:2148-1789171200-1789257599@welbergen1629.de
SUMMARY:Sternmarsch Oster 🥁
DESCRIPTION:
URL:https://welbergen1629.de/event/sternmarsch-oster-%f0%9f%a5%81/
END:VEVENT
BEGIN:VEVENT
DTSTART;VALUE=DATE:20261107
DTEND;VALUE=DATE:20261108
DTSTAMP:20260424T115051
CREATED:20260131T080349Z
LAST-MODIFIED:20260131T080349Z
UID:3042-1794009600-1794095999@welbergen1629.de
SUMMARY:Vereinstag 🍻
DESCRIPTION:
URL:https://welbergen1629.de/event/vereinstag-%f0%9f%8d%bb/
END:VEVENT
BEGIN:VEVENT
DTSTART;VALUE=DATE:20261212
DTEND;VALUE=DATE:20261213
DTSTAMP:20260424T115051
CREATED:20251026T173238Z
LAST-MODIFIED:20251208T174623Z
UID:2135-1797033600-1797119999@welbergen1629.de
SUMMARY:Adventsversammlung 🎄
DESCRIPTION:
URL:https://welbergen1629.de/event/adventsversammlung-%f0%9f%8e%84/
END:VEVENT
END:VCALENDAR